BEGIN:VCALENDAR
VERSION:2.0
PRODID:-//Horror Expo | Viva o Mundo do Horror - ECPv5.0.0//NONSGML v1.0//EN
CALSCALE:GREGORIAN
METHOD:PUBLISH
X-WR-CALNAME:Horror Expo | Viva o Mundo do Horror
X-ORIGINAL-URL:https://horrorexpo.com.br
X-WR-CALDESC:Eventos para Horror Expo | Viva o Mundo do Horror
BEGIN:VTIMEZONE
TZID:America/Sao_Paulo
BEGIN:STANDARD
TZOFFSETFROM:-0200
TZOFFSETTO:-0300
TZNAME:-03
DTSTART:20190217T020000
END:STANDARD
END:VTIMEZONE
BEGIN:VEVENT
DTSTART;TZID=America/Sao_Paulo:20191018T120000
DTEND;TZID=America/Sao_Paulo:20191020T220000
DTSTAMP:20260424T235644
CREATED:20180806T212019Z
LAST-MODIFIED:20191016T040531Z
UID:2062-1571400000-1571608800@horrorexpo.com.br
SUMMARY:Horror Expo 2019
DESCRIPTION:
URL:https://horrorexpo.com.br/event/horror-expo-2019/
LOCATION:Pavilhão de Exposições do Anhembi\, Avenida Olavo Fontoura\, 1209 - Santana\, São Paulo/SP\, São Paulo\, São Paulo\, 02012-021\, Brasil
END:VEVENT
END:VCALENDAR